BEGIN:VCALENDAR
VERSION:2.0
PRODID:-//Orbytt - ECPv6.15.16.1//NONSGML v1.0//EN
CALSCALE:GREGORIAN
METHOD:PUBLISH
X-ORIGINAL-URL:https://orbytt.ai
X-WR-CALDESC:Events for Orbytt
REFRESH-INTERVAL;VALUE=DURATION:PT1H
X-Robots-Tag:noindex
X-PUBLISHED-TTL:PT1H
BEGIN:VTIMEZONE
TZID:UTC
BEGIN:STANDARD
TZOFFSETFROM:+0000
TZOFFSETTO:+0000
TZNAME:UTC
DTSTART:20250101T000000
END:STANDARD
END:VTIMEZONE
BEGIN:VEVENT
DTSTART;TZID=UTC:20260306T150000
DTEND;TZID=UTC:20260308T180000
DTSTAMP:20260421T104757
CREATED:20260224T214500Z
LAST-MODIFIED:20260224T215043Z
UID:10000005-1772809200-1772992800@orbytt.ai
SUMMARY:Developer Camp - Manila 2026
DESCRIPTION:Shape the Future of Work\n\n\n\nAt Developer Camp Manila\, hundreds of engineers\, creatives and entrepreneurs will gather to envision and create the future of human flourishing—including what jobs and occupations are required in the age of AI. During our 48-hour idea competition\, attendees will learn about the latest advancements in machine learning from the world’s foremost experts in the field. \n\n\n\nDeveloper Camp Manila follows the tradition of past events\, highlighting inclusion\, diversity and empowerment in the developer community. Attendees are encouraged to develop native and web applications during this exciting\, cooperative\, hackathon-style event. We are thrilled to announce that Gray Whale\, DeepInvent\, LabLab\, ACTAI Global\, The Astbury and Sangha Capital will sponsor us in-person and online\, to connect developers around the world.
URL:https://orbytt.ai/event/developer-camp-manila-2026/
LOCATION:The Astbury\, 2 Orion Street Bel-air\, Makati\, Metro Manila\, 1209\, Philippines
END:VEVENT
END:VCALENDAR