BEGIN:VCALENDAR
VERSION:2.0
PRODID:-//Orbytt - ECPv6.15.16.1//NONSGML v1.0//EN
CALSCALE:GREGORIAN
METHOD:PUBLISH
X-WR-CALNAME:Orbytt
X-ORIGINAL-URL:https://orbytt.ai
X-WR-CALDESC:Events for Orbytt
REFRESH-INTERVAL;VALUE=DURATION:PT1H
X-Robots-Tag:noindex
X-PUBLISHED-TTL:PT1H
BEGIN:VTIMEZONE
TZID:Asia/Shanghai
BEGIN:STANDARD
TZOFFSETFROM:+0800
TZOFFSETTO:+0800
TZNAME:CST
DTSTART:20240101T000000
END:STANDARD
END:VTIMEZONE
BEGIN:VEVENT
DTSTART;TZID=Asia/Shanghai:20250726T090000
DTEND;TZID=Asia/Shanghai:20250726T150000
DTSTAMP:20260421T221012
CREATED:20250415T054648Z
LAST-MODIFIED:20260224T215230Z
UID:10000001-1753520400-1753542000@orbytt.ai
SUMMARY:Mindanao Freelance & Digital Summit 2025
DESCRIPTION:Level Up Your Career\, Expand Your Network\, and Stay Ahead in the Digital Age! \nJoin the biggest gathering of freelancers\, digital professionals\, and industry experts in Mindanao! Whether you’re an aspiring freelancer\, an established digital entrepreneur\, or a corporate professional looking to upskill\, this summit is designed for you.
URL:https://orbytt.ai/event/mindanao-freelance-digital-summit-2025/
LOCATION:SMX Convention Hall\, 3rd Level\, SM Lanang Premier\, J.P. Laurel Ave\, Davao City\, Davao Del Sur\, 8000\, Philippines
END:VEVENT
END:VCALENDAR